Workbook
Name consumptionMap: Lists!$B$17:$C$19
Name demoDataRows: demographicData!$1:$1
Name demoDataTable: demographicData!$A:$G
Name demoMap: Lists!$B$5:$C$8
Name rawDataTable: energyData!$1:$1048576
Name rawDataTableRows: energyData!$1:$1
Name region: Lists!$E$5:$E$94
Name SelectedAllianceList: Lists!$K$5:$K$12
Name selectedAlliances: Lists!$N$5
Name selectedRegions: Lists!$I$5
Name SelectedRegionsList: Lists!$G$5:$G$83
Name systemMap: Lists!$B$11:$C$14

Sheet Menu
B1: solar rates program business case model v1
B2: menu | D2: market size | F2: model
T6: solar rates program
B7: menu | J7: > market sizing model to scope the potential size of a program by local government area | T7: solar
B8: this model is presented in two parts described to the right // click on either to get started and move around using the navigation menu at the top of this page this model is designed to provide indicative results and should not be used as the sole basis for the design or business case of a solar rates program.
J11: \\ program design model to test program options and estimate the net financial and environmental impacts on participating households | T11: rates program business case model

Sheet MarketModel
B1: =Menu!B1 -> solar rates program business case model v1
B2: menu | D2: market size | G2: model
B5: market size explorer // | Q5: =IF(OR(Q6=Lists!E6,Q6=Lists!E15),"for","for the region of") -> for the region of
Q6: > Victoria
B7: select a region to view demographic sizes of potential target audiences for a solar program to create a multi-LGA region choose "selected LGAs" as the region to model and choose each LGA from the selector boxes | Q7: =IF(Q6=Lists!E15, IFERROR(selectedRegions,"select LGAs to model using the selector boxes below"), IF(Q6=Lists!E6, IFERROR(selectedAlliances,"select alliances to model using the selector boxes below"), ""))
Q8: households | AA8: =VLOOKUP($Q$6,demoDataTable,MATCH(demographicData!$B$1,demoDataRows,FALSE),FALSE) -> 2281091
Q10: # households receiving a rebate | AB10: =VLOOKUP($Q$6,demoDataTable,MATCH(demographicData!$F$1,demoDataRows,FALSE),FALSE) -> 406341 | AD10: =IFERROR(AB10/$AA$8,"n/a") -> 0.1781345
Q11: # low income households | AB11: =VLOOKUP($Q$6,demoDataTable,MATCH(demographicData!$D$1,demoDataRows,FALSE),FALSE) -> 419152 | AD11: =IFERROR(AB11/$AA$8,"n/a") -> 0.18375067
Q12: # low income owner households | AB12: =VLOOKUP($Q$6,demoDataTable,MATCH(demographicData!$E$1,demoDataRows,FALSE),FALSE) -> 256975 | AD12: =IFERROR(AB12/$AA$8,"n/a") -> 0.11265443
Q14: people | AA14: =VLOOKUP($Q$6,demoDataTable,MATCH(demographicData!$C$1,demoDataRows,FALSE),FALSE) -> 5344927
Q16: # people receiving aged pension | AB16: =VLOOKUP($Q$6,demoDataTable,MATCH(demographicData!$G$1,demoDataRows,FALSE),FALSE) -> 605923 | AD16: =IFERROR(AB16/$AA$14,"n/a") -> 0.11336413
B19: reference data // | F19: AUSTRALIAN BUREAU OF STATISTICS 2011 Census of Population and Housing Data generated using ABS TableBuilder (accessed December 2015) Household count based on "Family Household Composition (HCFMD)" - includes all occupied private dwellings Low-income household count based on "Total Household Income (HIND)" - threshold set at $600 per week Household tenure based on "Tenure and Landlord Type (TENLLD)" | V19: Department of Veterans Affairs Number of people on aged pension based on "DVA Pensioners and Treatment Card Holders by Local Government Area as at 3 July 2015" (accessed December 2015) Local Government Households receiving rates rebates by Council provided by EAGA (October 2015) Alliances Al alliance estimates are based on summation of member LGAs. No double counting adjustment has been made to account for alliances that are a member of more than one alliance.
B23: =IF(Q6=Lists!E15,"create a multi-region market of selected LGA's //",IF(Q6=Lists!E6,"create a multi-region market of selected alliances //","")) | W23: =IF(Q6=Lists!E15,"1. mark each LGA to include in the model with an 'x'",IF(Q6=Lists!E6,"1. mark each alliance to include in the model with an 'x'",""))
W24: =IF(Q6=Lists!E15,"2. choose 'selected LGAs' as the model to model",IF(Q6=Lists!E6,"2. choose 'selected alliances' as the region to model",""))
C26: CVGA | H26: EAGA | L26: GCCN | R26: GBGA | U26: NEGHA | Y26: NAGA | AC26: SECCA | AE26: WAGA
C28: {=Lists!E16:E29} -> Alpine | J28: {=Lists!E30:E42} -> Central Goldfields | P28: {=Lists!E43:E55} -> Greater Shepparton | U28: {=Lists!E56:E68} -> Mansfield | AA28: {=Lists!E69:E81} -> Mount Alexander | AE28: {=Lists!E82:E94} -> Swan Hill
C29: Ararat | J29: Colac-Otway | P29: Hepburn | U29: Maribyrnong | AA29: Moyne | AE29: Towong
C30: Ballarat | J30: Corangamite | P30: Hindmarsh | U30: Maroondah | AA30: Murrindindi | AE30: Wangaratta
C31: Banyule | J31: Darebin | P31: Hobsons Bay | U31: Melbourne | AA31: Nillumbik | AE31: Warrnambool
C32: Bass Coast | J32: East Gippsland | P32: Horsham | U32: Melton | AA32: Northern Grampians | AE32: Wellington
C33: Baw Baw | J33: Frankston | P33: Hume | U33: Mildura | AA33: Port Phillip | AE33: West Wimmera
C34: Bayside | J34: Gannawarra | P34: Indigo | U34: Mitchell | AA34: Pyrenees | AE34: Whitehorse
C35: Benalla | J35: Glen Eira | P35: Kingston | U35: Moira | AA35: Queenscliffe | AE35: Whittlesea
C36: Boroondara | J36: Glenelg | P36: Knox | U36: Monash | AA36: South Gippsland | AE36: Wodonga
C37: Brimbank | J37: Golden Plains | P37: Latrobe | U37: Moonee Valley | AA37: Southern Grampians | AE37: Wyndham
C38: Buloke | J38: Greater Bendigo | P38: Loddon | U38: Moorabool | AA38: Stonnington | AE38: Yarra
C39: Campaspe | J39: Greater Dandenong | P39: Macedon Ranges | U39: Moreland | AA39: Strathbogie | AE39: Yarra Ranges
C40: Cardinia | J40: Greater Geelong | P40: Manningham | U40: Mornington Peninsula | AA40: Surf Coast | AE40: Yarriambiack
C41: Casey

Sheet ProgramModel
B1: =Menu!B1 -> solar rates program business case model v1 | AH1: `
B2: menu | D2: market size | F2: model
B4: solar rates program model: enter and adjust inputs in the design an program section and view model outputs and calculations // all outputs can be viewed by year or month, and per household or by total program by selecting the main headers of the output section // to view more detailed breakdown and calculations of energy costs click 'plus' button above
B6: design a program | O6: net annual benefit | AB6: shown per household | AI6: calculation of benefits and costs
O10: average benefit for all household types and generation-demand patterns | S10: =IF(AB6=B54,"average financial benefit for each modelled household type for all generation-demand patterns","average financial benefit for each modelled household type for all generation-demand patterns") -> average financial benefit for each modelled household type for all generation-demand patterns | W10: financial benefit for each household type by generation-demand pattern | AC10: clean energy generation and greenhouse gas abatement | AI10: breakdown of financial costs and benefits | AQ10: breakdown of financial benefits (net of costs) associated with energy generation and demand with solar PV unit | BC10: breakdown of energy generation and demand with solar PV unit
S16: type of household^ | U16: =IF(O6=B58,"net financial saving ($ / yr)","net financial saving ($ / mth)") -> net financial saving ($ / yr) | W16: =IF(O6=B58,"net financial saving ($ / yr)","net financial saving ($ / mth)") -> net financial saving ($ / yr) | AC16: clean energy | AE16: ghg gas savings | AI16: benefits | AL16: - | AM16: costs | AQ16: value of energy exported | AU16: avoided energy costs | AY16: cost of energy imported | BC16: energy demand | BG16: energy generated and exported to the grid | BK16: energy imported and consumed on-site | BO16: energy generated and consumed on-site
B17: program description | F17: Enter a short description of the program design being modelled | AI17: =IF($O$6=$B$58,"($ per year)","($ per month)") -> ($ per year) | AM17: =IF($O$6=$B$58,"($ per year)","($ per month)") -> ($ per year) | AQ17: =IF($O$6=$B$58,"($ per year)","($ per month)") -> ($ per year) | AU17: =IF($O$6=$B$58,"($ per year)","($ per month)") -> ($ per year) | AY17: =IF($O$6=$B$58,"($ per year)","($ per month)") -> ($ per year) | BC17: =IF($O$6=$B$58,"(MWh per year)","(MWh per month)") -> (MWh per year) | BG17: =IF($O$6=$B$58,"(MWh per year)","(MWh per month)") -> (MWh per year) | BK17: =IF($O$6=$B$58,"(MWh per year)","(MWh per month)") -> (MWh per year) | BO17: =IF($O$6=$B$58,"(MWh per year)","(MWh per month)") -> (MWh per year)
Y20: by average daily demand | AC20: =IF(O6=B58,"MWh per yr","MWh per mth)") -> MWh per yr | AE20: t CO2-e*** | AI20: by average daily demand | AM20: of financing PV units | AQ20: by average daily demand | AU20: by average daily demand | AY20: by average daily demand | BC20: by average daily demand | BG20: by average daily demand | BK20: by average daily demand | BO20: by average daily demand
Y21: 5 | Z21: 10 | AA21: 15 | AI21: 5 | AJ21: 10 | AK21: 15 | AM21: ="at "&I28*100&"% p.a." -> at 5% p.a. | AQ21: 5 | AR21: 10 | AS21: 15 | AU21: 5 | AV21: 10 | AW21: 15 | AY21: 5 | AZ21: 10 | BA21: 15 | BC21: 5 | BD21: 10 | BE21: 15 | BG21: 5 | BH21: 10 | BI21: 15 | BK21: 5 | BL21: 10 | BM21: 15 | BO21: 5 | BP21: 10 | BQ21: 15
B22: the number of participating households | F22: 1000
O23: =AVERAGE(U23,U28,U33,U38) -> -0.41657575 | S23: Retirees (1-2 occupants) | U23: =AVERAGE(Y23:AA26) -> 93.909167 | W23: by generation (PV size) | X23: 2 | Y23: =AI23+$AM23 -> -15.634185 | Z23: =AJ23+$AM23 -> 224.75634 | AA23: =AK23+$AM23 -> 411.38535 | AC23: =IFERROR(VLOOKUP(VLOOKUP($S$23,demoMap,2,FALSE)&VLOOKUP($AH23,systemMap,2,FALSE)&VLOOKUP(BC$21,consumptionMap,2,FALSE),rawDataTable,MATCH("gen",rawDataTableRows,FALSE),FALSE)/1000 *IF($AB$6=$B$55,$F$22,1) *IF($O$6=$B$57,1/12,1),"-") -> 2.203026 | AE23: =(BP23+BH23)*$J$47 -> 2.7537825 | AG23: by generation (PV size) | AH23: 2 | AI23: =$AU23+AQ23-AY23 -> 412.11276 | AJ23: =AV23+AR23-AZ23 -> 652.50328 | AK23: =AW23+AS23-BA23 -> 839.1323 | AL23: - | AM23: =IF($J$31="Annual",PMT($I$28,$J$30,$H$38),PMT($I$28/4,$J$30*4,$H$38)*4)* IF($AB$6=$B$55,$F$22,1) *IF($O$6=$B$57,1/12,1) -> -427.74695 | AQ23: =BG23*$I$34 -> 75.25343 | AR23: =BH23*$I$34 -> 31.476074 | AS23: =BI23*$I$34 -> 5.5791781 | AU23: =BC$23*$I$33 -> 547.5 | AV23: =BD$23*$I$33 -> 1095 | AW23: =BE$23*$I$33 -> 1642.5 | AY23: =BK23*$J$35 -> 210.64067 | AZ23: =BL23*$J$35 -> 473.97279 | BA23: =BM23*$J$35 -> 808.94688 | BC23: =BC$21*365/1000 *IF($AB$6=$B$55,$F$22,1) *IF($O$6=$B$57,1/12,1) -> 1.825 | BD23: =BD$21*365/1000 *IF($AB$6=$B$55,$F$22,1) *IF($O$6=$B$57,1/12,1) -> 3.65 | BE23: =BE$21*365/1000 *IF($AB$6=$B$55,$F$22,1) *IF($O$6=$B$57,1/12,1) -> 5.475 | BG23: =IFERROR(VLOOKUP(VLOOKUP($S$23,demoMap,2,FALSE)&VLOOKUP($AH23,systemMap,2,FALSE)&VLOOKUP(BG$21,consumptionMap,2,FALSE),rawDataTable,MATCH("export",rawDataTableRows,FALSE),FALSE)/1000 *IF($AB$6=$B$55,$F$22,1) *IF($O$6=$B$57,1/12,1),"-") -> 1.2542238 | BH23: =IFERROR(VLOOKUP(VLOOKUP($S$23,demoMap,2,FALSE)&VLOOKUP($AH23,systemMap,2,FALSE)&VLOOKUP(BH$21,consumptionMap,2,FALSE),rawDataTable,MATCH("export",rawDataTableRows,FALSE),FALSE)/1000 *IF($AB$6=$B$55,$F$22,1) *IF($O$6=$B$57,1/12,1),"-") -> 0.52460123 | BI23: =IFERROR(VLOOKUP(VLOOKUP($S$23,demoMap,2,FALSE)&VLOOKUP($AH23,systemMap,2,FALSE)&VLOOKUP(BI$21,consumptionMap,2,FALSE),rawDataTable,MATCH("export",rawDataTableRows,FALSE),FALSE)/1000 *IF($AB$6=$B$55,$F$22,1) *IF($O$6=$B$57,1/12,1),"-") -> 0.092986301 | BK23: =IFERROR(VLOOKUP(VLOOKUP($S$23,demoMap,2,FALSE)&VLOOKUP($AH23,systemMap,2,FALSE)&VLOOKUP(BK$21,consumptionMap,2,FALSE),rawDataTable,MATCH("import",rawDataTableRows,FALSE),FALSE)/1000 *IF($AB$6=$B$55,$F$22,1) *IF($O$6=$B$57,1/12,1),"-") -> 0.87619781 | BL23: =IFERROR(VLOOKUP(VLOOKUP($S$23,demoMap,2,FALSE)&VLOOKUP($AH23,systemMap,2,FALSE)&VLOOKUP(BL$21,consumptionMap,2,FALSE),rawDataTable,MATCH("import",rawDataTableRows,FALSE),FALSE)/1000 *IF($AB$6=$B$55,$F$22,1) *IF($O$6=$B$57,1/12,1),"-") -> 1.9715752 | BM23: =IFERROR(VLOOKUP(VLOOKUP($S$23,demoMap,2,FALSE)&VLOOKUP($AH23,systemMap,2,FALSE)&VLOOKUP(BM$21,consumptionMap,2,FALSE),rawDataTable,MATCH("import",rawDataTableRows,FALSE),FALSE)/1000 *IF($AB$6=$B$55,$F$22,1) *IF($O$6=$B$57,1/12,1),"-") -> 3.3649603 | BO23: =IFERROR(($AC23-BG23),"-") -> 0.94880219 | BP23: =IFERROR(($AC23-BH23),"-") -> 1.6784248 | BQ23: =IFERROR(($AC23-BI23),"-") -> 2.1100397
X24: 3 | Y24: =AI24+$AM24 -> -137.73981 | Z24: =AJ24+$AM24 -> 126.88295 | AA24: =AK24+$AM24 -> 359.47949 | AC24: =IFERROR(VLOOKUP(VLOOKUP($S$23,demoMap,2,FALSE)&VLOOKUP($AH24,systemMap,2,FALSE)&VLOOKUP(BC$21,consumptionMap,2,FALSE),rawDataTable,MATCH("gen",rawDataTableRows,FALSE),FALSE)/1000 *IF($AB$6=$B$55,$F$22,1) *IF($O$6=$B$57,1/12,1),"-") -> 3.304539 | AE24: =(BP24+BH24)*$J$47 -> 4.1306738 | AH24: 3 | AI24: =AU24+AQ24-AY24 -> 481.53562 | AJ24: =AV24+AR24-AZ24 -> 746.15838 | AK24: =AW24+AS24-BA24 -> 978.75492 | AM24: =IF($J$31="Annual",PMT($I$28,$J$30,$H$39),PMT($I$28/4,$J$30*4,$H$39)*4) *IF($AB$6=$B$55,$F$22,1) *IF($O$6=$B$57,1/12,1) -> -619.27543 | AQ24: =BG24*$I$34 -> 140.236 | AR24: =BH24*$I$34 -> 88.399279 | AS24: =BI24*$I$34 -> 47.214111 | AU24: =BC$23*$I$33 -> 547.5 | AV24: =BD$23*$I$33 -> 1095 | AW24: =BE$23*$I$33 -> 1642.5 | AY24: =BK24*$J$35 -> 206.20038 | AZ24: =BL24*$J$35 -> 437.2409 | BA24: =BM24*$J$35 -> 710.95919 | BC24: =BC$21*365/1000 *IF($AB$6=$B$55,$F$22,1) *IF($O$6=$B$57,1/12,1) -> 1.825 | BD24: =BD$21*365/1000 *IF($AB$6=$B$55,$F$22,1) *IF($O$6=$B$57,1/12,1) -> 3.65 | BE24: =BE$21*365/1000 *IF($AB$6=$B$55,$F$22,1) *IF($O$6=$B$57,1/12,1) -> 5.475 | BG24: =IFERROR(VLOOKUP(VLOOKUP($S$23,demoMap,2,FALSE)&VLOOKUP($AH24,systemMap,2,FALSE)&VLOOKUP(BG$21,consumptionMap,2,FALSE),rawDataTable,MATCH("export",rawDataTableRows,FALSE),FALSE)/1000 *IF($AB$6=$B$55,$F$22,1) *IF($O$6=$B$57,1/12,1),"-") -> 2.3372667 | BH24: =IFERROR(VLOOKUP(VLOOKUP($S$23,demoMap,2,FALSE)&VLOOKUP($AH24,systemMap,2,FALSE)&VLOOKUP(BH$21,consumptionMap,2,FALSE),rawDataTable,MATCH("export",rawDataTableRows,FALSE),FALSE)/1000 *IF($AB$6=$B$55,$F$22,1) *IF($O$6=$B$57,1/12,1),"-") -> 1.4733213 | BI24: =IFERROR(VLOOKUP(VLOOKUP($S$23,demoMap,2,FALSE)&VLOOKUP($AH24,systemMap,2,FALSE)&VLOOKUP(BI$21,consumptionMap,2,FALSE),rawDataTable,MATCH("export",rawDataTableRows,FALSE),FALSE)/1000 *IF($AB$6=$B$55,$F$22,1) *IF($O$6=$B$57,1/12,1),"-") -> 0.78690185 | BK24: =IFERROR(VLOOKUP(VLOOKUP($S$23,demoMap,2,FALSE)&VLOOKUP($AH24,systemMap,2,FALSE)&VLOOKUP(BK$21,consumptionMap,2,FALSE),rawDataTable,MATCH("import",rawDataTableRows,FALSE),FALSE)/1000 *IF($AB$6=$B$55,$F$22,1) *IF($O$6=$B$57,1/12,1),"-") -> 0.85772763 | BL24: =IFERROR(VLOOKUP(VLOOKUP($S$23,demoMap,2,FALSE)&VLOOKUP($AH24,systemMap,2,FALSE)&VLOOKUP(BL$21,consumptionMap,2,FALSE),rawDataTable,MATCH("import",rawDataTableRows,FALSE),FALSE)/1000 *IF($AB$6=$B$55,$F$22,1) *IF($O$6=$B$57,1/12,1),"-") -> 1.8187823 | BM24: =IFERROR(VLOOKUP(VLOOKUP($S$23,demoMap,2,FALSE)&VLOOKUP($AH24,systemMap,2,FALSE)&VLOOKUP(BM$21,consumptionMap,2,FALSE),rawDataTable,MATCH("import",rawDataTableRows,FALSE),FALSE)/1000 *IF($AB$6=$B$55,$F$22,1) *IF($O$6=$B$57,1/12,1),"-") -> 2.9573628 | BO24: =IFERROR(($AC24-BG24),"-") -> 0.96727237 | BP24: =IFERROR(($AC24-BH24),"-") -> 1.8312177 | BQ24: =IFERROR(($AC24-BI24),"-") -> 2.5176372
O25: ="for all "&F22&" households" -> for all 1000 households | X25: 4 | Y25: =AI25+$AM25 -> -217.66848 | Z25: =AJ25+$AM25 -> 58.111588 | AA25: =AK25+$AM25 -> 310.5495 | AC25: =IFERROR(VLOOKUP(VLOOKUP($S$23,demoMap,2,FALSE)&VLOOKUP($AH25,systemMap,2,FALSE)&VLOOKUP(BC$21,consumptionMap,2,FALSE),rawDataTable,MATCH("gen",rawDataTableRows,FALSE),FALSE)/1000 *IF($AB$6=$B$55,$F$22,1) *IF($O$6=$B$57,1/12,1),"-") -> 4.4060521 | AE25: =(BP25+BH25)*$J$47 -> 5.5075651 | AH25: 4 | AI25: =AU25+AQ25-AY25 -> 548.44545 | AJ25: =AV25+AR25-AZ25 -> 824.22552 | AK25: =AW25+AS25-BA25 -> 1076.6634 | AM25: =IF($J$31="Annual",PMT($I$28,$J$30,$H$40),PMT($I$28/4,$J$30*4,$H$40)*4) *IF($AB$6=$B$55,$F$22,1) *IF($O$6=$B$57,1/12,1) -> -766.11393 | AQ25: =BG25*$I$34 -> 206.05437 | AR25: =BH25*$I$34 -> 150.50686 | AS25: =BI25*$I$34 -> 102.72268 | AU25: =BC$23*$I$33 -> 547.5 | AV25: =BD$23*$I$33 -> 1095 | AW25: =BE$23*$I$33 -> 1642.5 | AY25: =BK25*$J$35 -> 205.10892 | AZ25: =BL25*$J$35 -> 421.28134 | BA25: =BM25*$J$35 -> 668.55925 | BC25: =BC$21*365/1000 *IF($AB$6=$B$55,$F$22,1) *IF($O$6=$B$57,1/12,1) -> 1.825 | BD25: =BD$21*365/1000 *IF($AB$6=$B$55,$F$22,1) *IF($O$6=$B$57,1/12,1) -> 3.65 | BE25: =BE$21*365/1000 *IF($AB$6=$B$55,$F$22,1) *IF($O$6=$B$57,1/12,1) -> 5.475 | BG25: =IFERROR(VLOOKUP(VLOOKUP($S$23,demoMap,2,FALSE)&VLOOKUP($AH25,systemMap,2,FALSE)&VLOOKUP(BG$21,consumptionMap,2,FALSE),rawDataTable,MATCH("export",rawDataTableRows,FALSE),FALSE)/1000 *IF($AB$6=$B$55,$F$22,1) *IF($O$6=$B$57,1/12,1),"-") -> 3.4342396 | BH25: =IFERROR(VLOOKUP(VLOOKUP($S$23,demoMap,2,FALSE)&VLOOKUP($AH25,systemMap,2,FALSE)&VLOOKUP(BH$21,consumptionMap,2,FALSE),rawDataTable,MATCH("export",rawDataTableRows,FALSE),FALSE)/1000 *IF($AB$6=$B$55,$F$22,1) *IF($O$6=$B$57,1/12,1),"-") -> 2.5084477 | BI25: =IFERROR(VLOOKUP(VLOOKUP($S$23,demoMap,2,FALSE)&VLOOKUP($AH25,systemMap,2,FALSE)&VLOOKUP(BI$21,consumptionMap,2,FALSE),rawDataTable,MATCH("export",rawDataTableRows,FALSE),FALSE)/1000 *IF($AB$6=$B$55,$F$22,1) *IF($O$6=$B$57,1/12,1),"-") -> 1.7120447 | BK25: =IFERROR(VLOOKUP(VLOOKUP($S$23,demoMap,2,FALSE)&VLOOKUP($AH25,systemMap,2,FALSE)&VLOOKUP(BK$21,consumptionMap,2,FALSE),rawDataTable,MATCH("import",rawDataTableRows,FALSE),FALSE)/1000 *IF($AB$6=$B$55,$F$22,1) *IF($O$6=$B$57,1/12,1),"-") -> 0.8531875 | BL25: =IFERROR(VLOOKUP(VLOOKUP($S$23,demoMap,2,FALSE)&VLOOKUP($AH25,systemMap,2,FALSE)&VLOOKUP(BL$21,consumptionMap,2,FALSE),rawDataTable,MATCH("import",rawDataTableRows,FALSE),FALSE)/1000 *IF($AB$6=$B$55,$F$22,1) *IF($O$6=$B$57,1/12,1),"-") -> 1.7523956 | BM25: =IFERROR(VLOOKUP(VLOOKUP($S$23,demoMap,2,FALSE)&VLOOKUP($AH25,systemMap,2,FALSE)&VLOOKUP(BM$21,consumptionMap,2,FALSE),rawDataTable,MATCH("import",rawDataTableRows,FALSE),FALSE)/1000 *IF($AB$6=$B$55,$F$22,1) *IF($O$6=$B$57,1/12,1),"-") -> 2.7809926 | BO25: =IFERROR(($AC25-BG25),"-") -> 0.9718125 | BP25: =IFERROR(($AC25-BH25),"-") -> 1.8976044 | BQ25: =IFERROR(($AC25-BI25),"-") -> 2.6940074
B26: required leverage and financing structure | F26: > required leverage* | I26: =AVERAGE(J38:K42) -> 5287500 | X26: 5 | Y26: =AI26+$AM26 -> -272.87907 | Z26: =AJ26+$AM26 -> 6.8361059 | AA26: =AK26+$AM26 -> 272.83023 | AC26: =IFERROR(VLOOKUP(VLOOKUP($S$23,demoMap,2,FALSE)&VLOOKUP($AH26,systemMap,2,FALSE)&VLOOKUP(BC$21,consumptionMap,2,FALSE),rawDataTable,MATCH("gen",rawDataTableRows,FALSE),FALSE)/1000 *IF($AB$6=$B$55,$F$22,1) *IF($O$6=$B$57,1/12,1),"-") -> 5.5075651 | AE26: =(BP26+BH26)*$J$47 -> 6.8844563 | AH26: 5 | AI26: =AU26+AQ26-AY26 -> 614.53623 | AJ26: =AV26+AR26-AZ26 -> 894.25141 | AK26: =AW26+AS26-BA26 -> 1160.2455 | AM26: =IF($J$31="Annual",PMT($I$28,$J$30,$H$41),PMT($I$28/4,$J$30*4,$H$41)*4) *IF($AB$6=$B$55,$F$22,1) *IF($O$6=$B$57,1/12,1) -> -887.41531 | AQ26: =BG26*$I$34 -> 272.14515 | AR26: =BH26*$I$34 -> 215.28887 | AS26: =BI26*$I$34 -> 162.99605 | AU26: =BC$23*$I$33 -> 547.5 | AV26: =BD$23*$I$33 -> 1095 | AW26: =BE$23*$I$33 -> 1642.5 | AY26: =BK26*$J$35 -> 205.10892 | AZ26: =BL26*$J$35 -> 416.03746 | BA26: =BM26*$J$35 -> 645.25051 | BC26: =BC$21*365/1000 *IF($AB$6=$B$55,$F$22,1) *IF($O$6=$B$57,1/12,1) -> 1.825 | BD26: =BD$21*365/1000 *IF($AB$6=$B$55,$F$22,1) *IF($O$6=$B$57,1/12,1) -> 3.65 | BE26: =BE$21*365/1000 *IF($AB$6=$B$55,$F$22,1) *IF($O$6=$B$57,1/12,1) -> 5.475 | BG26: =IFERROR(VLOOKUP(VLOOKUP($S$23,demoMap,2,FALSE)&VLOOKUP($AH26,systemMap,2,FALSE)&VLOOKUP(BG$21,consumptionMap,2,FALSE),rawDataTable,MATCH("export",rawDataTableRows,FALSE),FALSE)/1000 *IF($AB$6=$B$55,$F$22,1) *IF($O$6=$B$57,1/12,1),"-") -> 4.5357526 | BH26: =IFERROR(VLOOKUP(VLOOKUP($S$23,demoMap,2,FALSE)&VLOOKUP($AH26,systemMap,2,FALSE)&VLOOKUP(BH$21,consumptionMap,2,FALSE),rawDataTable,MATCH("export",rawDataTableRows,FALSE),FALSE)/1000 *IF($AB$6=$B$55,$F$22,1) *IF($O$6=$B$57,1/12,1),"-") -> 3.5881478 | BI26: =IFERROR(VLOOKUP(VLOOKUP($S$23,demoMap,2,FALSE)&VLOOKUP($AH26,systemMap,2,FALSE)&VLOOKUP(BI$21,consumptionMap,2,FALSE),rawDataTable,MATCH("export",rawDataTableRows,FALSE),FALSE)/1000 *IF($AB$6=$B$55,$F$22,1) *IF($O$6=$B$57,1/12,1),"-") -> 2.7166008 | BK26: =IFERROR(VLOOKUP(VLOOKUP($S$23,demoMap,2,FALSE)&VLOOKUP($AH26,systemMap,2,FALSE)&VLOOKUP(BK$21,consumptionMap,2,FALSE),rawDataTable,MATCH("import",rawDataTableRows,FALSE),FALSE)/1000 *IF($AB$6=$B$55,$F$22,1) *IF($O$6=$B$57,1/12,1),"-") -> 0.8531875 | BL26: =IFERROR(VLOOKUP(VLOOKUP($S$23,demoMap,2,FALSE)&VLOOKUP($AH26,systemMap,2,FALSE)&VLOOKUP(BL$21,consumptionMap,2,FALSE),rawDataTable,MATCH("import",rawDataTableRows,FALSE),FALSE)/1000 *IF($AB$6=$B$55,$F$22,1) *IF($O$6=$B$57,1/12,1),"-") -> 1.7305827 | BM26: =IFERROR(VLOOKUP(VLOOKUP($S$23,demoMap,2,FALSE)&VLOOKUP($AH26,systemMap,2,FALSE)&VLOOKUP(BM$21,consumptionMap,2,FALSE),rawDataTable,MATCH("import",rawDataTableRows,FALSE),FALSE)/1000 *IF($AB$6=$B$55,$F$22,1) *IF($O$6=$B$57,1/12,1),"-") -> 2.6840357 | BO26: =IFERROR(($AC26-BG26),"-") -> 0.9718125 | BP26: =IFERROR(($AC26-BH26),"-") -> 1.9194173 | BQ26: =IFERROR(($AC26-BI26),"-") -> 2.7909643
F28: > borrowing rate (% p.a.) | I28: 0.05 | O28: =AVERAGE(U23,U28,U33,U38)*IF($AB$6=$B$54,1,1/$F$22) -> -0.41657575 | S28: Family type 2 (1-2 working occupants) | U28: =AVERAGE(Y28:AA31) -> 33.683469 | W28: by generation (PV size) | X28: 2 | Y28: =AI28+$AM28 -> -46.87569 | Z28: =AJ28+$AM28 -> 162.7688 | AA28: =AK28+$AM28 -> 341.41547 | AC28: =IFERROR(VLOOKUP(VLOOKUP($S$28,demoMap,2,FALSE)&VLOOKUP($AH28,systemMap,2,FALSE)&VLOOKUP(BC$21,consumptionMap,2,FALSE),rawDataTable,MATCH("gen",rawDataTableRows,FALSE),FALSE)/1000 *IF($AB$6=$B$55,$F$22,1) *IF($O$6=$B$57,1/12,1),"-") -> 2.203026 | AE28: =(BP28+BH28)*$J$47 -> 2.7537825 | AG28: by generation (PV size) | AH28: 2 | AI28: =$AU28+AQ28-AY28 -> 380.87126 | AJ28: =AV28+AR28-AZ28 -> 590.51575 | AK28: =AW28+AS28-BA28 -> 769.16242 | AL28: - | AM28: =IF($J$31="Annual",PMT($I$28,$J$30,$H$38),PMT($I$28/4,$J$30*4,$H$38)*4)* IF($AB$6=$B$55,$F$22,1) *IF($O$6=$B$57,1/12,1) -> -427.74695 | AQ28: =BG28*$I$34 -> 85.643996 | AR28: =BH28*$I$34 -> 52.092417 | AS28: =BI28*$I$34 -> 28.850357 | AU28: =BC$23*$I$33 -> 547.5 | AV28: =BD$23*$I$33 -> 1095 | AW28: =BE$23*$I$33 -> 1642.5 | AY28: =BK28*$J$35 -> 252.27274 | AZ28: =BL28*$J$35 -> 556.57667 | BA28: =BM28*$J$35 -> 902.18794 | BC28: =BC$21*365/1000 *IF($AB$6=$B$55,$F$22,1) *IF($O$6=$B$57,1/12,1) -> 1.825 | BD28: =BD$21*365/1000 *IF($AB$6=$B$55,$F$22,1) *IF($O$6=$B$57,1/12,1) -> 3.65 | BE28: =BE$21*365/1000 *IF($AB$6=$B$55,$F$22,1) *IF($O$6=$B$57,1/12,1) -> 5.475 | BG28: =IFERROR(VLOOKUP(VLOOKUP($S$28,demoMap,2,FALSE)&VLOOKUP($AH28,systemMap,2,FALSE)&VLOOKUP(BG$21,consumptionMap,2,FALSE),rawDataTable,MATCH("export",rawDataTableRows,FALSE),FALSE)/1000 *IF($AB$6=$B$55,$F$22,1) *IF($O$6=$B$57,1/12,1),"-") -> 1.4273999 | BH28: =IFERROR(VLOOKUP(VLOOKUP($S$28,demoMap,2,FALSE)&VLOOKUP($AH28,systemMap,2,FALSE)&VLOOKUP(BH$21,consumptionMap,2,FALSE),rawDataTable,MATCH("export",rawDataTableRows,FALSE),FALSE)/1000 *IF($AB$6=$B$55,$F$22,1) *IF($O$6=$B$57,1/12,1),"-") -> 0.86820695 | BI28: =IFERROR(VLOOKUP(VLOOKUP($S$28,demoMap,2,FALSE)&VLOOKUP($AH28,systemMap,2,FALSE)&VLOOKUP(BI$21,consumptionMap,2,FALSE),rawDataTable,MATCH("export",rawDataTableRows,FALSE),FALSE)/1000 *IF($AB$6=$B$55,$F$22,1) *IF($O$6=$B$57,1/12,1),"-") -> 0.48083928 | BK28: =IFERROR(VLOOKUP(VLOOKUP($S$28,demoMap,2,FALSE)&VLOOKUP($AH28,systemMap,2,FALSE)&VLOOKUP(BK$21,consumptionMap,2,FALSE),rawDataTable,MATCH("import",rawDataTableRows,FALSE),FALSE)/1000 *IF($AB$6=$B$55,$F$22,1) *IF($O$6=$B$57,1/12,1),"-") -> 1.0493739 | BL28: =IFERROR(VLOOKUP(VLOOKUP($S$28,demoMap,2,FALSE)&VLOOKUP($AH28,systemMap,2,FALSE)&VLOOKUP(BL$21,consumptionMap,2,FALSE),rawDataTable,MATCH("import",rawDataTableRows,FALSE),FALSE)/1000 *IF($AB$6=$B$55,$F$22,1) *IF($O$6=$B$57,1/12,1),"-") -> 2.3151809 | BM28: =IFERROR(VLOOKUP(VLOOKUP($S$28,demoMap,2,FALSE)&VLOOKUP($AH28,systemMap,2,FALSE)&VLOOKUP(BM$21,consumptionMap,2,FALSE),rawDataTable,MATCH("import",rawDataTableRows,FALSE),FALSE)/1000 *IF($AB$6=$B$55,$F$22,1) *IF($O$6=$B$57,1/12,1),"-") -> 3.7528133 | BO28: =IFERROR(($AC28-BG28),"-") -> 0.7756261 | BP28: =IFERROR(($AC28-BH28),"-") -> 1.3348191 | BQ28: =IFERROR(($AC28-BI28),"-") -> 1.7221867
X29: 3 | Y29: =AI29+$AM29 -> -167.1807 | Z29: =AJ29+$AM29 -> 63.405112 | AA29: =AK29+$AM29 -> 266.49819 | AC29: =IFERROR(VLOOKUP(VLOOKUP($S$28,demoMap,2,FALSE)&VLOOKUP($AH29,systemMap,2,FALSE)&VLOOKUP(BC$21,consumptionMap,2,FALSE),rawDataTable,MATCH("gen",rawDataTableRows,FALSE),FALSE)/1000 *IF($AB$6=$B$55,$F$22,1) *IF($O$6=$B$57,1/12,1),"-") -> 3.304539 | AE29: =(BP29+BH29)*$J$47 -> 4.1306738 | AH29: 3 | AI29: =AU29+AQ29-AY29 -> 452.09473 | AJ29: =AV29+AR29-AZ29 -> 682.68054 | AK29: =AW29+AS29-BA29 -> 885.77362 | AM29: =IF($J$31="Annual",PMT($I$28,$J$30,$H$39),PMT($I$28/4,$J$30*4,$H$39)*4) *IF($AB$6=$B$55,$F$22,1) *IF($O$6=$B$57,1/12,1) -> -619.27543 | AQ29: =BG29*$I$34 -> 150.0277 | AR29: =BH29*$I$34 -> 109.51128 | AS29: =BI29*$I$34 -> 78.138625 | AU29: =BC$23*$I$33 -> 547.5 | AV29: =BD$23*$I$33 -> 1095 | AW29: =BE$23*$I$33 -> 1642.5 | AY29: =BK29*$J$35 -> 245.43297 | AZ29: =BL29*$J$35 -> 521.83074 | BA29: =BM29*$J$35 -> 834.86501 | BC29: =BC$21*365/1000 *IF($AB$6=$B$55,$F$22,1) *IF($O$6=$B$57,1/12,1) -> 1.825 | BD29: =BD$21*365/1000 *IF($AB$6=$B$55,$F$22,1) *IF($O$6=$B$57,1/12,1) -> 3.65 | BE29: =BE$21*365/1000 *IF($AB$6=$B$55,$F$22,1) *IF($O$6=$B$57,1/12,1) -> 5.475 | BG29: =IFERROR(VLOOKUP(VLOOKUP($S$28,demoMap,2,FALSE)&VLOOKUP($AH29,systemMap,2,FALSE)&VLOOKUP(BG$21,consumptionMap,2,FALSE),rawDataTable,MATCH("export",rawDataTableRows,FALSE),FALSE)/1000 *IF($AB$6=$B$55,$F$22,1) *IF($O$6=$B$57,1/12,1),"-") -> 2.5004617 | BH29: =IFERROR(VLOOKUP(VLOOKUP($S$28,demoMap,2,FALSE)&VLOOKUP($AH29,systemMap,2,FALSE)&VLOOKUP(BH$21,consumptionMap,2,FALSE),rawDataTable,MATCH("export",rawDataTableRows,FALSE),FALSE)/1000 *IF($AB$6=$B$55,$F$22,1) *IF($O$6=$B$57,1/12,1),"-") -> 1.825188 | BI29: =IFERROR(VLOOKUP(VLOOKUP($S$28,demoMap,2,FALSE)&VLOOKUP($AH29,systemMap,2,FALSE)&VLOOKUP(BI$21,consumptionMap,2,FALSE),rawDataTable,MATCH("export",rawDataTableRows,FALSE),FALSE)/1000 *IF($AB$6=$B$55,$F$22,1) *IF($O$6=$B$57,1/12,1),"-") -> 1.3023104 | BK29: =IFERROR(VLOOKUP(VLOOKUP($S$28,demoMap,2,FALSE)&VLOOKUP($AH29,systemMap,2,FALSE)&VLOOKUP(BK$21,consumptionMap,2,FALSE),rawDataTable,MATCH("import",rawDataTableRows,FALSE),FALSE)/1000 *IF($AB$6=$B$55,$F$22,1) *IF($O$6=$B$57,1/12,1),"-") -> 1.0209227 | BL29: =IFERROR(VLOOKUP(VLOOKUP($S$28,demoMap,2,FALSE)&VLOOKUP($AH29,systemMap,2,FALSE)&VLOOKUP(BL$21,consumptionMap,2,FALSE),rawDataTable,MATCH("import",rawDataTableRows,FALSE),FALSE)/1000 *IF($AB$6=$B$55,$F$22,1) *IF($O$6=$B$57,1/12,1),"-") -> 2.170649 | BM29: =IFERROR(VLOOKUP(VLOOKUP($S$28,demoMap,2,FALSE)&VLOOKUP($AH29,systemMap,2,FALSE)&VLOOKUP(BM$21,consumptionMap,2,FALSE),rawDataTable,MATCH("import",rawDataTableRows,FALSE),FALSE)/1000 *IF($AB$6=$B$55,$F$22,1) *IF($O$6=$B$57,1/12,1),"-") -> 3.4727714 | BO29: =IFERROR(($AC29-BG29),"-") -> 0.80407734 | BP29: =IFERROR(($AC29-BH29),"-") -> 1.479351 | BQ29: =IFERROR(($AC29-BI29),"-") -> 2.0022286
F30: > borrowing period | J30: 10 | O30: ="per average household" -> per average household | X30: 4 | Y30: =AI30+$AM30 -> -247.57405 | Z30: =AJ30+$AM30 -> -4.3714202 | AA30: =AK30+$AM30 -> 215.07208 | AC30: =IFERROR(VLOOKUP(VLOOKUP($S$28,demoMap,2,FALSE)&VLOOKUP($AH30,systemMap,2,FALSE)&VLOOKUP(BC$21,consumptionMap,2,FALSE),rawDataTable,MATCH("gen",rawDataTableRows,FALSE),FALSE)/1000 *IF($AB$6=$B$55,$F$22,1) *IF($O$6=$B$57,1/12,1),"-") -> 4.4060521 | AE30: =(BP30+BH30)*$J$47 -> 5.5075651 | AH30: 4 | AI30: =AU30+AQ30-AY30 -> 518.53988 | AJ30: =AV30+AR30-AZ30 -> 761.74251 | AK30: =AW30+AS30-BA30 -> 981.18601 | AM30: =IF($J$31="Annual",PMT($I$28,$J$30,$H$40),PMT($I$28/4,$J$30*4,$H$40)*4) *IF($AB$6=$B$55,$F$22,1) *IF($O$6=$B$57,1/12,1) -> -766.11393 | AQ30: =BG30*$I$34 -> 216.00062 | AR30: =BH30*$I$34 -> 171.28799 | AS30: =BI30*$I$34 -> 134.47737 | AU30: =BC$23*$I$33 -> 547.5 | AV30: =BD$23*$I$33 -> 1095 | AW30: =BE$23*$I$33 -> 1642.5 | AY30: =BK30*$J$35 -> 244.96074 | AZ30: =BL30*$J$35 -> 504.54548 | BA30: =BM30*$J$35 -> 795.79136 | BC30: =BC$21*365/1000 *IF($AB$6=$B$55,$F$22,1) *IF($O$6=$B$57,1/12,1) -> 1.825 | BD30: =BD$21*365/1000 *IF($AB$6=$B$55,$F$22,1) *IF($O$6=$B$57,1/12,1) -> 3.65 | BE30: =BE$21*365/1000 *IF($AB$6=$B$55,$F$22,1) *IF($O$6=$B$57,1/12,1) -> 5.475 | BG30: =IFERROR(VLOOKUP(VLOOKUP($S$28,demoMap,2,FALSE)&VLOOKUP($AH30,systemMap,2,FALSE)&VLOOKUP(BG$21,consumptionMap,2,FALSE),rawDataTable,MATCH("export",rawDataTableRows,FALSE),FALSE)/1000 *IF($AB$6=$B$55,$F$22,1) *IF($O$6=$B$57,1/12,1),"-") -> 3.6000104 | BH30: =IFERROR(VLOOKUP(VLOOKUP($S$28,demoMap,2,FALSE)&VLOOKUP($AH30,systemMap,2,FALSE)&VLOOKUP(BH$21,consumptionMap,2,FALSE),rawDataTable,MATCH("export",rawDataTableRows,FALSE),FALSE)/1000 *IF($AB$6=$B$55,$F$22,1) *IF($O$6=$B$57,1/12,1),"-") -> 2.8547999 | BI30: =IFERROR(VLOOKUP(VLOOKUP($S$28,demoMap,2,FALSE)&VLOOKUP($AH30,systemMap,2,FALSE)&VLOOKUP(BI$21,consumptionMap,2,FALSE),rawDataTable,MATCH("export",rawDataTableRows,FALSE),FALSE)/1000 *IF($AB$6=$B$55,$F$22,1) *IF($O$6=$B$57,1/12,1),"-") -> 2.2412896 | BK30: =IFERROR(VLOOKUP(VLOOKUP($S$28,demoMap,2,FALSE)&VLOOKUP($AH30,systemMap,2,FALSE)&VLOOKUP(BK$21,consumptionMap,2,FALSE),rawDataTable,MATCH("import",rawDataTableRows,FALSE),FALSE)/1000 *IF($AB$6=$B$55,$F$22,1) *IF($O$6=$B$57,1/12,1),"-") -> 1.0189583 | BL30: =IFERROR(VLOOKUP(VLOOKUP($S$28,demoMap,2,FALSE)&VLOOKUP($AH30,systemMap,2,FALSE)&VLOOKUP(BL$21,consumptionMap,2,FALSE),rawDataTable,MATCH("import",rawDataTableRows,FALSE),FALSE)/1000 *IF($AB$6=$B$55,$F$22,1) *IF($O$6=$B$57,1/12,1),"-") -> 2.0987478 | BM30: =IFERROR(VLOOKUP(VLOOKUP($S$28,demoMap,2,FALSE)&VLOOKUP($AH30,systemMap,2,FALSE)&VLOOKUP(BM$21,consumptionMap,2,FALSE),rawDataTable,MATCH("import",rawDataTableRows,FALSE),FALSE)/1000 *IF($AB$6=$B$55,$F$22,1) *IF($O$6=$B$57,1/12,1),"-") -> 3.3102375 | BO30: =IFERROR(($AC30-BG30),"-") -> 0.80604167 | BP30: =IFERROR(($AC30-BH30),"-") -> 1.5512522 | BQ30: =IFERROR(($AC30-BI30),"-") -> 2.1647625
F31: > repayment interval | J31: Quarterly | X31: 5 | Y31: =AI31+$AM31 -> -302.78464 | Z31: =AJ31+$AM31 -> -53.387822 | AA31: =AK31+$AM31 -> 177.2163 | AC31: =IFERROR(VLOOKUP(VLOOKUP($S$28,demoMap,2,FALSE)&VLOOKUP($AH31,systemMap,2,FALSE)&VLOOKUP(BC$21,consumptionMap,2,FALSE),rawDataTable,MATCH("gen",rawDataTableRows,FALSE),FALSE)/1000 *IF($AB$6=$B$55,$F$22,1) *IF($O$6=$B$57,1/12,1),"-") -> 5.5075651 | AE31: =(BP31+BH31)*$J$47 -> 6.8844563 | AH31: 5 | AI31: =AU31+AQ31-AY31 -> 584.63066 | AJ31: =AV31+AR31-AZ31 -> 834.02748 | AK31: =AW31+AS31-BA31 -> 1064.6316 | AM31: =IF($J$31="Annual",PMT($I$28,$J$30,$H$41),PMT($I$28/4,$J$30*4,$H$41)*4) *IF($AB$6=$B$55,$F$22,1) *IF($O$6=$B$57,1/12,1) -> -887.41531 | AQ31: =BG31*$I$34 -> 282.0914 | AR31: =BH31*$I$34 -> 235.31866 | AS31: =BI31*$I$34 -> 194.79614 | AU31: =BC$23*$I$33 -> 547.5 | AV31: =BD$23*$I$33 -> 1095 | AW31: =BE$23*$I$33 -> 1642.5 | AY31: =BK31*$J$35 -> 244.96074 | AZ31: =BL31*$J$35 -> 496.29117 | BA31: =BM31*$J$35 -> 772.66454 | BC31: =BC$21*365/1000 *IF($AB$6=$B$55,$F$22,1) *IF($O$6=$B$57,1/12,1) -> 1.825 | BD31: =BD$21*365/1000 *IF($AB$6=$B$55,$F$22,1) *IF($O$6=$B$57,1/12,1) -> 3.65 | BE31: =BE$21*365/1000 *IF($AB$6=$B$55,$F$22,1) *IF($O$6=$B$57,1/12,1) -> 5.475 | BG31: =IFERROR(VLOOKUP(VLOOKUP($S$28,demoMap,2,FALSE)&VLOOKUP($AH31,systemMap,2,FALSE)&VLOOKUP(BG$21,consumptionMap,2,FALSE),rawDataTable,MATCH("export",rawDataTableRows,FALSE),FALSE)/1000 *IF($AB$6=$B$55,$F$22,1) *IF($O$6=$B$57,1/12,1),"-") -> 4.7015234 | BH31: =IFERROR(VLOOKUP(VLOOKUP($S$28,demoMap,2,FALSE)&VLOOKUP($AH31,systemMap,2,FALSE)&VLOOKUP(BH$21,consumptionMap,2,FALSE),rawDataTable,MATCH("export",rawDataTableRows,FALSE),FALSE)/1000 *IF($AB$6=$B$55,$F$22,1) *IF($O$6=$B$57,1/12,1),"-") -> 3.9219776 | BI31: =IFERROR(VLOOKUP(VLOOKUP($S$28,demoMap,2,FALSE)&VLOOKUP($AH31,systemMap,2,FALSE)&VLOOKUP(BI$21,consumptionMap,2,FALSE),rawDataTable,MATCH("export",rawDataTableRows,FALSE),FALSE)/1000 *IF($AB$6=$B$55,$F$22,1) *IF($O$6=$B$57,1/12,1),"-") -> 3.2466024 | BK31: =IFERROR(VLOOKUP(VLOOKUP($S$28,demoMap,2,FALSE)&VLOOKUP($AH31,systemMap,2,FALSE)&VLOOKUP(BK$21,consumptionMap,2,FALSE),rawDataTable,MATCH("import",rawDataTableRows,FALSE),FALSE)/1000 *IF($AB$6=$B$55,$F$22,1) *IF($O$6=$B$57,1/12,1),"-") -> 1.0189583 | BL31: =IFERROR(VLOOKUP(VLOOKUP($S$28,demoMap,2,FALSE)&VLOOKUP($AH31,systemMap,2,FALSE)&VLOOKUP(BL$21,consumptionMap,2,FALSE),rawDataTable,MATCH("import",rawDataTableRows,FALSE),FALSE)/1000 *IF($AB$6=$B$55,$F$22,1) *IF($O$6=$B$57,1/12,1),"-") -> 2.0644125 | BM31: =IFERROR(VLOOKUP(VLOOKUP($S$28,demoMap,2,FALSE)&VLOOKUP($AH31,systemMap,2,FALSE)&VLOOKUP(BM$21,consumptionMap,2,FALSE),rawDataTable,MATCH("import",rawDataTableRows,FALSE),FALSE)/1000 *IF($AB$6=$B$55,$F$22,1) *IF($O$6=$B$57,1/12,1),"-") -> 3.2140373 | BO31: =IFERROR(($AC31-BG31),"-") -> 0.80604167 | BP31: =IFERROR(($AC31-BH31),"-") -> 1.5855875 | BQ31: =IFERROR(($AC31-BI31),"-") -> 2.2609627
B33: value of energy generation | F33: > average tariff | I33: 300 | O33: =AVERAGE(AE23:AE41) -> 4.8191194 | S33: Family type 1 (Couple with children) | U33: =AVERAGE(Y33:AA36) -> -37.028378 | W33: by generation (PV size) | X33: 2 | Y33: =AI33+$AM33 -> -82.208212 | Z33: =AJ33+$AM33 -> 89.384083 | AA33: =AK33+$AM33 -> 238.96948 | AC33: =IFERROR(VLOOKUP(VLOOKUP($S$33,demoMap,2,FALSE)&VLOOKUP($AH33,systemMap,2,FALSE)&VLOOKUP(BC$21,consumptionMap,2,FALSE),rawDataTable,MATCH("gen",rawDataTableRows,FALSE),FALSE)/1000 *IF($AB$6=$B$55,$F$22,1) *IF($O$6=$B$57,1/12,1),"-") -> 2.203026 | AE33: =(BP33+BH33)*$J$47 -> 2.7537825 | AG33: by generation (PV size) | AH33: 2 | AI33: =$AU33+AQ33-AY33 -> 345.53873 | AJ33: =AV33+AR33-AZ33 -> 517.13103 | AK33: =AW33+AS33-BA33 -> 666.71643 | AL33: - | AM33: =IF($J$31="Annual",PMT($I$28,$J$30,$H$38),PMT($I$28/4,$J$30*4,$H$38)*4)* IF($AB$6=$B$55,$F$22,1) *IF($O$6=$B$57,1/12,1) -> -427.74695 | AQ33: =BG33*$I$34 -> 97.395187 | AR33: =BH33*$I$34 -> 76.499331 | AS33: =BI33*$I$34 -> 62.922716 | AU33: =BC$23*$I$33 -> 547.5 | AV33: =BD$23*$I$33 -> 1095 | AW33: =BE$23*$I$33 -> 1642.5 | AY33: =BK33*$J$35 -> 299.35645 | AZ33: =BL33*$J$35 -> 654.3683 | BA33: =BM33*$J$35 -> 1038.7063 | BC33: =BC$21*365/1000 *IF($AB$6=$B$55,$F$22,1) *IF($O$6=$B$57,1/12,1) -> 1.825 | BD33: =BD$21*365/1000 *IF($AB$6=$B$55,$F$22,1) *IF($O$6=$B$57,1/12,1) -> 3.65 | BE33: =BE$21*365/1000 *IF($AB$6=$B$55,$F$22,1) *IF($O$6=$B$57,1/12,1) -> 5.475 | BG33: =IFERROR(VLOOKUP(VLOOKUP($S$33,demoMap,2,FALSE)&VLOOKUP($AH33,systemMap,2,FALSE)&VLOOKUP(BG$21,consumptionMap,2,FALSE),rawDataTable,MATCH("export",rawDataTableRows,FALSE),FALSE)/1000 *IF($AB$6=$B$55,$F$22,1) *IF($O$6=$B$57,1/12,1),"-") -> 1.6232531 | BH33: =IFERROR(VLOOKUP(VLOOKUP($S$33,demoMap,2,FALSE)&VLOOKUP($AH33,systemMap,2,FALSE)&VLOOKUP(BH$21,consumptionMap,2,FALSE),rawDataTable,MATCH("export",rawDataTableRows,FALSE),FALSE)/1000 *IF($AB$6=$B$55,$F$22,1) *IF($O$6=$B$57,1/12,1),"-") -> 1.2749889 | BI33: =IFERROR(VLOOKUP(VLOOKUP($S$33,demoMap,2,FALSE)&VLOOKUP($AH33,systemMap,2,FALSE)&VLOOKUP(BI$21,consumptionMap,2,FALSE),rawDataTable,MATCH("export",rawDataTableRows,FALSE),FALSE)/1000 *IF($AB$6=$B$55,$F$22,1) *IF($O$6=$B$57,1/12,1),"-") -> 1.0487119 | BK33: =IFERROR(VLOOKUP(VLOOKUP($S$33,demoMap,2,FALSE)&VLOOKUP($AH33,systemMap,2,FALSE)&VLOOKUP(BK$21,consumptionMap,2,FALSE),rawDataTable,MATCH("import",rawDataTableRows,FALSE),FALSE)/1000 *IF($AB$6=$B$55,$F$22,1) *IF($O$6=$B$57,1/12,1),"-") -> 1.2452271 | BL33: =IFERROR(VLOOKUP(VLOOKUP($S$33,demoMap,2,FALSE)&VLOOKUP($AH33,systemMap,2,FALSE)&VLOOKUP(BL$21,consumptionMap,2,FALSE),rawDataTable,MATCH("import",rawDataTableRows,FALSE),FALSE)/1000 *IF($AB$6=$B$55,$F$22,1) *IF($O$6=$B$57,1/12,1),"-") -> 2.7219628 | BM33: =IFERROR(VLOOKUP(VLOOKUP($S$33,demoMap,2,FALSE)&VLOOKUP($AH33,systemMap,2,FALSE)&VLOOKUP(BM$21,consumptionMap,2,FALSE),rawDataTable,MATCH("import",rawDataTableRows,FALSE),FALSE)/1000 *IF($AB$6=$B$55,$F$22,1) *IF($O$6=$B$57,1/12,1),"-") -> 4.3206859 | BO33: =IFERROR(($AC33-BG33),"-") -> 0.57977291 | BP33: =IFERROR(($AC33-BH33),"-") -> 0.92803717 | BQ33: =IFERROR(($AC33-BI33),"-") -> 1.1543141
F34: > fed to grid | I34: 60 | X34: 3 | Y34: =AI34+$AM34 -> -200.06609 | Z34: =AJ34+$AM34 -> -10.600833 | AA34: =AK34+$AM34 -> 156.42111 | AC34: =IFERROR(VLOOKUP(VLOOKUP($S$33,demoMap,2,FALSE)&VLOOKUP($AH34,systemMap,2,FALSE)&VLOOKUP(BC$21,consumptionMap,2,FALSE),rawDataTable,MATCH("gen",rawDataTableRows,FALSE),FALSE)/1000 *IF($AB$6=$B$55,$F$22,1) *IF($O$6=$B$57,1/12,1),"-") -> 3.304539 | AE34: =(BP34+BH34)*$J$47 -> 4.1306738 | AH34: 3 | AI34: =AU34+AQ34-AY34 -> 419.20934 | AJ34: =AV34+AR34-AZ34 -> 608.6746 | AK34: =AW34+AS34-BA34 -> 775.69654 | AM34: =IF($J$31="Annual",PMT($I$28,$J$30,$H$39),PMT($I$28/4,$J$30*4,$H$39)*4) *IF($AB$6=$B$55,$F$22,1) *IF($O$6=$B$57,1/12,1) -> -619.27543 | AQ34: =BG34*$I$34 -> 160.965 | AR34: =BH34*$I$34 -> 134.12481 | AS34: =BI34*$I$34 -> 114.749 | AU34: =BC$23*$I$33 -> 547.5 | AV34: =BD$23*$I$33 -> 1095 | AW34: =BE$23*$I$33 -> 1642.5 | AY34: =BK34*$J$35 -> 289.25566 | AZ34: =BL34*$J$35 -> 620.45021 | BA34: =BM34*$J$35 -> 981.55245 | BC34: =BC$21*365/1000 *IF($AB$6=$B$55,$F$22,1) *IF($O$6=$B$57,1/12,1) -> 1.825 | BD34: =BD$21*365/1000 *IF($AB$6=$B$55,$F$22,1) *IF($O$6=$B$57,1/12,1) -> 3.65 | BE34: =BE$21*365/1000 *IF($AB$6=$B$55,$F$22,1) *IF($O$6=$B$57,1/12,1) -> 5.475 | BG34: =IFERROR(VLOOKUP(VLOOKUP($S$33,demoMap,2,FALSE)&VLOOKUP($AH34,systemMap,2,FALSE)&VLOOKUP(BG$21,consumptionMap,2,FALSE),rawDataTable,MATCH("export",rawDataTableRows,FALSE),FALSE)/1000 *IF($AB$6=$B$55,$F$22,1) *IF($O$6=$B$57,1/12,1),"-") -> 2.6827501 | BH34: =IFERROR(VLOOKUP(VLOOKUP($S$33,demoMap,2,FALSE)&VLOOKUP($AH34,systemMap,2,FALSE)&VLOOKUP(BH$21,consumptionMap,2,FALSE),rawDataTable,MATCH("export",rawDataTableRows,FALSE),FALSE)/1000 *IF($AB$6=$B$55,$F$22,1) *IF($O$6=$B$57,1/12,1),"-") -> 2.2354135 | BI34: =IFERROR(VLOOKUP(VLOOKUP($S$33,demoMap,2,FALSE)&VLOOKUP($AH34,systemMap,2,FALSE)&VLOOKUP(BI$21,consumptionMap,2,FALSE),rawDataTable,MATCH("export",rawDataTableRows,FALSE),FALSE)/1000 *IF($AB$6=$B$55,$F$22,1) *IF($O$6=$B$57,1/12,1),"-") -> 1.9124833 | BK34: =IFERROR(VLOOKUP(VLOOKUP($S$33,demoMap,2,FALSE)&VLOOKUP($AH34,systemMap,2,FALSE)&VLOOKUP(BK$21,consumptionMap,2,FALSE),rawDataTable,MATCH("import",rawDataTableRows,FALSE),FALSE)/1000 *IF($AB$6=$B$55,$F$22,1) *IF($O$6=$B$57,1/12,1),"-") -> 1.203211 | BL34: =IFERROR(VLOOKUP(VLOOKUP($S$33,demoMap,2,FALSE)&VLOOKUP($AH34,systemMap,2,FALSE)&VLOOKUP(BL$21,consumptionMap,2,FALSE),rawDataTable,MATCH("import",rawDataTableRows,FALSE),FALSE)/1000 *IF($AB$6=$B$55,$F$22,1) *IF($O$6=$B$57,1/12,1),"-") -> 2.5808744 | BM34: =IFERROR(VLOOKUP(VLOOKUP($S$33,demoMap,2,FALSE)&VLOOKUP($AH34,systemMap,2,FALSE)&VLOOKUP(BM$21,consumptionMap,2,FALSE),rawDataTable,MATCH("import",rawDataTableRows,FALSE),FALSE)/1000 *IF($AB$6=$B$55,$F$22,1) *IF($O$6=$B$57,1/12,1),"-") -> 4.0829442 | BO34: =IFERROR(($AC34-BG34),"-") -> 0.62178896 | BP34: =IFERROR(($AC34-BH34),"-") -> 1.0691256 | BQ34: =IFERROR(($AC34-BI34),"-") -> 1.3920558
F35: > imported from grid** | J35: =SUM(energyData!J:J)/SUM(energyData!G:G)*1000*I33/300 -> 240.4031 | O35: tonnes of CO2-e | X35: 4 | Y35: =AI35+$AM35 -> -278.02297 | Z35: =AJ35+$AM35 -> -75.036466 | AA35: =AK35+$AM35 -> 102.69892 | AC35: =IFERROR(VLOOKUP(VLOOKUP($S$33,demoMap,2,FALSE)&VLOOKUP($AH35,systemMap,2,FALSE)&VLOOKUP(BC$21,consumptionMap,2,FALSE),rawDataTable,MATCH("gen",rawDataTableRows,FALSE),FALSE)/1000 *IF($AB$6=$B$55,$F$22,1) *IF($O$6=$B$57,1/12,1),"-") -> 4.4060521 | AE35: =(BP35+BH35)*$J$47 -> 5.5075651 | AH35: 4 | AI35: =AU35+AQ35-AY35 -> 488.09096 | AJ35: =AV35+AR35-AZ35 -> 691.07747 | AK35: =AW35+AS35-BA35 -> 868.81286 | AM35: =IF($J$31="Annual",PMT($I$28,$J$30,$H$40),PMT($I$28/4,$J$30*4,$H$40)*4) *IF($AB$6=$B$55,$F$22,1) *IF($O$6=$B$57,1/12,1) -> -766.11393 | AQ35: =BG35*$I$34 -> 226.12758 | AR35: =BH35*$I$34 -> 194.79037 | AS35: =BI35*$I$34 -> 171.8514 | AU35: =BC$23*$I$33 -> 547.5 | AV35: =BD$23*$I$33 -> 1095 | AW35: =BE$23*$I$33 -> 1642.5 | AY35: =BK35*$J$35 -> 285.53662 | AZ35: =BL35*$J$35 -> 598.71291 | BA35: =BM35*$J$35 -> 945.53854 | BC35: =BC$21*365/1000 *IF($AB$6=$B$55,$F$22,1) *IF($O$6=$B$57,1/12,1) -> 1.825 | BD35: =BD$21*365/1000 *IF($AB$6=$B$55,$F$22,1) *IF($O$6=$B$57,1/12,1) -> 3.65 | BE35: =BE$21*365/1000 *IF($AB$6=$B$55,$F$22,1) *IF($O$6=$B$57,1/12,1) -> 5.475 | BG35: =IFERROR(VLOOKUP(VLOOKUP($S$33,demoMap,2,FALSE)&VLOOKUP($AH35,systemMap,2,FALSE)&VLOOKUP(BG$21,consumptionMap,2,FALSE),rawDataTable,MATCH("export",rawDataTableRows,FALSE),FALSE)/1000 *IF($AB$6=$B$55,$F$22,1) *IF($O$6=$B$57,1/12,1),"-") -> 3.7687931 | BH35: =IFERROR(VLOOKUP(VLOOKUP($S$33,demoMap,2,FALSE)&VLOOKUP($AH35,systemMap,2,FALSE)&VLOOKUP(BH$21,consumptionMap,2,FALSE),rawDataTable,MATCH("export",rawDataTableRows,FALSE),FALSE)/1000 *IF($AB$6=$B$55,$F$22,1) *IF($O$6=$B$57,1/12,1),"-") -> 3.2465062 | BI35: =IFERROR(VLOOKUP(VLOOKUP($S$33,demoMap,2,FALSE)&VLOOKUP($AH35,systemMap,2,FALSE)&VLOOKUP(BI$21,consumptionMap,2,FALSE),rawDataTable,MATCH("export",rawDataTableRows,FALSE),FALSE)/1000 *IF($AB$6=$B$55,$F$22,1) *IF($O$6=$B$57,1/12,1),"-") -> 2.8641899 | BK35: =IFERROR(VLOOKUP(VLOOKUP($S$33,demoMap,2,FALSE)&VLOOKUP($AH35,systemMap,2,FALSE)&VLOOKUP(BK$21,consumptionMap,2,FALSE),rawDataTable,MATCH("import",rawDataTableRows,FALSE),FALSE)/1000 *IF($AB$6=$B$55,$F$22,1) *IF($O$6=$B$57,1/12,1),"-") -> 1.187741 | BL35: =IFERROR(VLOOKUP(VLOOKUP($S$33,demoMap,2,FALSE)&VLOOKUP($AH35,systemMap,2,FALSE)&VLOOKUP(BL$21,consumptionMap,2,FALSE),rawDataTable,MATCH("import",rawDataTableRows,FALSE),FALSE)/1000 *IF($AB$6=$B$55,$F$22,1) *IF($O$6=$B$57,1/12,1),"-") -> 2.4904542 | BM35: =IFERROR(VLOOKUP(VLOOKUP($S$33,demoMap,2,FALSE)&VLOOKUP($AH35,systemMap,2,FALSE)&VLOOKUP(BM$21,consumptionMap,2,FALSE),rawDataTable,MATCH("import",rawDataTableRows,FALSE),FALSE)/1000 *IF($AB$6=$B$55,$F$22,1) *IF($O$6=$B$57,1/12,1),"-") -> 3.9331379 | BO35: =IFERROR(($AC35-BG35),"-") -> 0.63725899 | BP35: =IFERROR(($AC35-BH35),"-") -> 1.1595458 | BQ35: =IFERROR(($AC35-BI35),"-") -> 1.5418621
X36: 5 | Y36: =AI36+$AM36 -> -332.69022 | Z36: =AJ36+$AM36 -> -120.96348 | AA36: =AK36+$AM36 -> 67.774119 | AC36: =IFERROR(VLOOKUP(VLOOKUP($S$33,demoMap,2,FALSE)&VLOOKUP($AH36,systemMap,2,FALSE)&VLOOKUP(BC$21,consumptionMap,2,FALSE),rawDataTable,MATCH("gen",rawDataTableRows,FALSE),FALSE)/1000 *IF($AB$6=$B$55,$F$22,1) *IF($O$6=$B$57,1/12,1),"-") -> 5.5075651 | AE36: =(BP36+BH36)*$J$47 -> 6.8844563 | AH36: 5 | AI36: =AU36+AQ36-AY36 -> 554.72509 | AJ36: =AV36+AR36-AZ36 -> 766.45183 | AK36: =AW36+AS36-BA36 -> 955.18943 | AM36: =IF($J$31="Annual",PMT($I$28,$J$30,$H$41),PMT($I$28/4,$J$30*4,$H$41)*4) *IF($AB$6=$B$55,$F$22,1) *IF($O$6=$B$57,1/12,1) -> -887.41531 | AQ36: =BG36*$I$34 -> 292.03765 | AR36: =BH36*$I$34 -> 257.79354 | AS36: =BI36*$I$34 -> 231.19536 | AU36: =BC$23*$I$33 -> 547.5 | AV36: =BD$23*$I$33 -> 1095 | AW36: =BE$23*$I$33 -> 1642.5 | AY36: =BK36*$J$35 -> 284.81256 | AZ36: =BL36*$J$35 -> 586.34171 | BA36: =BM36*$J$35 -> 918.50593 | BC36: =BC$21*365/1000 *IF($AB$6=$B$55,$F$22,1) *IF($O$6=$B$57,1/12,1) -> 1.825 | BD36: =BD$21*365/1000 *IF($AB$6=$B$55,$F$22,1) *IF($O$6=$B$57,1/12,1) -> 3.65 | BE36: =BE$21*365/1000 *IF($AB$6=$B$55,$F$22,1) *IF($O$6=$B$57,1/12,1) -> 5.475 | BG36: =IFERROR(VLOOKUP(VLOOKUP($S$33,demoMap,2,FALSE)&VLOOKUP($AH36,systemMap,2,FALSE)&VLOOKUP(BG$21,consumptionMap,2,FALSE),rawDataTable,MATCH("export",rawDataTableRows,FALSE),FALSE)/1000 *IF($AB$6=$B$55,$F$22,1) *IF($O$6=$B$57,1/12,1),"-") -> 4.8672942 | BH36: =IFERROR(VLOOKUP(VLOOKUP($S$33,demoMap,2,FALSE)&VLOOKUP($AH36,systemMap,2,FALSE)&VLOOKUP(BH$21,consumptionMap,2,FALSE),rawDataTable,MATCH("export",rawDataTableRows,FALSE),FALSE)/1000 *IF($AB$6=$B$55,$F$22,1) *IF($O$6=$B$57,1/12,1),"-") -> 4.296559 | BI36: =IFERROR(VLOOKUP(VLOOKUP($S$33,demoMap,2,FALSE)&VLOOKUP($AH36,systemMap,2,FALSE)&VLOOKUP(BI$21,consumptionMap,2,FALSE),rawDataTable,MATCH("export",rawDataTableRows,FALSE),FALSE)/1000 *IF($AB$6=$B$55,$F$22,1) *IF($O$6=$B$57,1/12,1),"-") -> 3.8532559 | BK36: =IFERROR(VLOOKUP(VLOOKUP($S$33,demoMap,2,FALSE)&VLOOKUP($AH36,systemMap,2,FALSE)&VLOOKUP(BK$21,consumptionMap,2,FALSE),rawDataTable,MATCH("import",rawDataTableRows,FALSE),FALSE)/1000 *IF($AB$6=$B$55,$F$22,1) *IF($O$6=$B$57,1/12,1),"-") -> 1.1847292 | BL36: =IFERROR(VLOOKUP(VLOOKUP($S$33,demoMap,2,FALSE)&VLOOKUP($AH36,systemMap,2,FALSE)&VLOOKUP(BL$21,consumptionMap,2,FALSE),rawDataTable,MATCH("import",rawDataTableRows,FALSE),FALSE)/1000 *IF($AB$6=$B$55,$F$22,1) *IF($O$6=$B$57,1/12,1),"-") -> 2.438994 | BM36: =IFERROR(VLOOKUP(VLOOKUP($S$33,demoMap,2,FALSE)&VLOOKUP($AH36,systemMap,2,FALSE)&VLOOKUP(BM$21,consumptionMap,2,FALSE),rawDataTable,MATCH("import",rawDataTableRows,FALSE),FALSE)/1000 *IF($AB$6=$B$55,$F$22,1) *IF($O$6=$B$57,1/12,1),"-") -> 3.8206909 | BO36: =IFERROR(($AC36-BG36),"-") -> 0.64027083 | BP36: =IFERROR(($AC36-BH36),"-") -> 1.211006 | BQ36: =IFERROR(($AC36-BI36),"-") -> 1.6543091
B37: solar pv systems costs and required capital | F37: modelled PV system sizes | H37: unit cost | J37: required capital ($)
F38: 2 | H38: 3350 | J38: =$F$22*H38 -> 3350000 | O38: =AVERAGE(AC23:AC41) -> 3.8552955 | S38: Single occupant / Couple w/o children | U38: =AVERAGE(Y38:AA41) -> -92.23056 | W38: by generation (PV size) | X38: 2 | Y38: =AI38+$AM38 -> -116.30264 | Z38: =AJ38+$AM38 -> 44.590682 | AA38: =AK38+$AM38 -> 204.42408 | AC38: =IFERROR(VLOOKUP(VLOOKUP($S$38,demoMap,2,FALSE)&VLOOKUP($AH38,systemMap,2,FALSE)&VLOOKUP(BC$21,consumptionMap,2,FALSE),rawDataTable,MATCH("gen",rawDataTableRows,FALSE),FALSE)/1000 *IF($AB$6=$B$55,$F$22,1) *IF($O$6=$B$57,1/12,1),"-") -> 2.203026 | AE38: =(BP38+BH38)*$J$47 -> 2.7537825 | AG38: by generation (PV size) | AH38: 2 | AI38: =$AU38+AQ38-AY38 -> 311.44431 | AJ38: =AV38+AR38-AZ38 -> 472.33763 | AK38: =AW38+AS38-BA38 -> 632.17102 | AL38: - | AM38: =IF($J$31="Annual",PMT($I$28,$J$30,$H$38),PMT($I$28/4,$J$30*4,$H$38)*4)* IF($AB$6=$B$55,$F$22,1) *IF($O$6=$B$57,1/12,1) -> -427.74695 | AQ38: =BG38*$I$34 -> 108.7346 | AR38: =BH38*$I$34 -> 91.397102 | AS38: =BI38*$I$34 -> 74.412121 | AU38: =BC$23*$I$33 -> 547.5 | AV38: =BD$23*$I$33 -> 1095 | AW38: =BE$23*$I$33 -> 1642.5 | AY38: =BK38*$J$35 -> 344.79029 | AZ38: =BL38*$J$35 -> 714.05947 | BA38: =BM38*$J$35 -> 1084.7411 | BC38: =BC$21*365/1000 *IF($AB$6=$B$55,$F$22,1) *IF($O$6=$B$57,1/12,1) -> 1.825 | BD38: =BD$21*365/1000 *IF($AB$6=$B$55,$F$22,1) *IF($O$6=$B$57,1/12,1) -> 3.65 | BE38: =BE$21*365/1000 *IF($AB$6=$B$55,$F$22,1) *IF($O$6=$B$57,1/12,1) -> 5.475 | BG38: =IFERROR(VLOOKUP(VLOOKUP($S$38,demoMap,2,FALSE)&VLOOKUP($AH38,systemMap,2,FALSE)&VLOOKUP(BG$21,consumptionMap,2,FALSE),rawDataTable,MATCH("export",rawDataTableRows,FALSE),FALSE)/1000 *IF($AB$6=$B$55,$F$22,1) *IF($O$6=$B$57,1/12,1),"-") -> 1.8122434 | BH38: =IFERROR(VLOOKUP(VLOOKUP($S$38,demoMap,2,FALSE)&VLOOKUP($AH38,systemMap,2,FALSE)&VLOOKUP(BH$21,consumptionMap,2,FALSE),rawDataTable,MATCH("export",rawDataTableRows,FALSE),FALSE)/1000 *IF($AB$6=$B$55,$F$22,1) *IF($O$6=$B$57,1/12,1),"-") -> 1.523285 | BI38: =IFERROR(VLOOKUP(VLOOKUP($S$38,demoMap,2,FALSE)&VLOOKUP($AH38,systemMap,2,FALSE)&VLOOKUP(BI$21,consumptionMap,2,FALSE),rawDataTable,MATCH("export",rawDataTableRows,FALSE),FALSE)/1000 *IF($AB$6=$B$55,$F$22,1) *IF($O$6=$B$57,1/12,1),"-") -> 1.240202 | BK38: =IFERROR(VLOOKUP(VLOOKUP($S$38,demoMap,2,FALSE)&VLOOKUP($AH38,systemMap,2,FALSE)&VLOOKUP(BK$21,consumptionMap,2,FALSE),rawDataTable,MATCH("import",rawDataTableRows,FALSE),FALSE)/1000 *IF($AB$6=$B$55,$F$22,1) *IF($O$6=$B$57,1/12,1),"-") -> 1.4342173 | BL38: =IFERROR(VLOOKUP(VLOOKUP($S$38,demoMap,2,FALSE)&VLOOKUP($AH38,systemMap,2,FALSE)&VLOOKUP(BL$21,consumptionMap,2,FALSE),rawDataTable,MATCH("import",rawDataTableRows,FALSE),FALSE)/1000 *IF($AB$6=$B$55,$F$22,1) *IF($O$6=$B$57,1/12,1),"-") -> 2.970259 | BM38: =IFERROR(VLOOKUP(VLOOKUP($S$38,demoMap,2,FALSE)&VLOOKUP($AH38,systemMap,2,FALSE)&VLOOKUP(BM$21,consumptionMap,2,FALSE),rawDataTable,MATCH("import",rawDataTableRows,FALSE),FALSE)/1000 *IF($AB$6=$B$55,$F$22,1) *IF($O$6=$B$57,1/12,1),"-") -> 4.512176 | BO38: =IFERROR(($AC38-BG38),"-") -> 0.39078266 | BP38: =IFERROR(($AC38-BH38),"-") -> 0.67974099 | BQ38: =IFERROR(($AC38-BI38),"-") -> 0.962824
F39: 3 | H39: 4850 | J39: =$F$22*H39 -> 4850000 | X39: 3 | Y39: =AI39+$AM39 -> -235.45843 | Z39: =AJ39+$AM39 -> -71.662308 | AA39: =AK39+$AM39 -> 89.231013 | AC39: =IFERROR(VLOOKUP(VLOOKUP($S$38,demoMap,2,FALSE)&VLOOKUP($AH39,systemMap,2,FALSE)&VLOOKUP(BC$21,consumptionMap,2,FALSE),rawDataTable,MATCH("gen",rawDataTableRows,FALSE),FALSE)/1000 *IF($AB$6=$B$55,$F$22,1) *IF($O$6=$B$57,1/12,1),"-") -> 3.304539 | AE39: =(BP39+BH39)*$J$47 -> 4.1306738 | AH39: 3 | AI39: =AU39+AQ39-AY39 -> 383.817 | AJ39: =AV39+AR39-AZ39 -> 547.61312 | AK39: =AW39+AS39-BA39 -> 708.50644 | AM39: =IF($J$31="Annual",PMT($I$28,$J$30,$H$39),PMT($I$28/4,$J$30*4,$H$39)*4) *IF($AB$6=$B$55,$F$22,1) *IF($O$6=$B$57,1/12,1) -> -619.27543 | AQ39: =BG39*$I$34 -> 172.73609 | AR39: =BH39*$I$34 -> 154.43315 | AS39: =BI39*$I$34 -> 137.09565 | AU39: =BC$23*$I$33 -> 547.5 | AV39: =BD$23*$I$33 -> 1095 | AW39: =BE$23*$I$33 -> 1642.5 | AY39: =BK39*$J$35 -> 336.41909 | AZ39: =BL39*$J$35 -> 701.82003 | BA39: =BM39*$J$35 -> 1071.0892 | BC39: =BC$21*365/1000 *IF($AB$6=$B$55,$F$22,1) *IF($O$6=$B$57,1/12,1) -> 1.825 | BD39: =BD$21*365/1000 *IF($AB$6=$B$55,$F$22,1) *IF($O$6=$B$57,1/12,1) -> 3.65 | BE39: =BE$21*365/1000 *IF($AB$6=$B$55,$F$22,1) *IF($O$6=$B$57,1/12,1) -> 5.475 | BG39: =IFERROR(VLOOKUP(VLOOKUP($S$38,demoMap,2,FALSE)&VLOOKUP($AH39,systemMap,2,FALSE)&VLOOKUP(BG$21,consumptionMap,2,FALSE),rawDataTable,MATCH("export",rawDataTableRows,FALSE),FALSE)/1000 *IF($AB$6=$B$55,$F$22,1) *IF($O$6=$B$57,1/12,1),"-") -> 2.8789348 | BH39: =IFERROR(VLOOKUP(VLOOKUP($S$38,demoMap,2,FALSE)&VLOOKUP($AH39,systemMap,2,FALSE)&VLOOKUP(BH$21,consumptionMap,2,FALSE),rawDataTable,MATCH("export",rawDataTableRows,FALSE),FALSE)/1000 *IF($AB$6=$B$55,$F$22,1) *IF($O$6=$B$57,1/12,1),"-") -> 2.5738859 | BI39: =IFERROR(VLOOKUP(VLOOKUP($S$38,demoMap,2,FALSE)&VLOOKUP($AH39,systemMap,2,FALSE)&VLOOKUP(BI$21,consumptionMap,2,FALSE),rawDataTable,MATCH("export",rawDataTableRows,FALSE),FALSE)/1000 *IF($AB$6=$B$55,$F$22,1) *IF($O$6=$B$57,1/12,1),"-") -> 2.2849276 | BK39: =IFERROR(VLOOKUP(VLOOKUP($S$38,demoMap,2,FALSE)&VLOOKUP($AH39,systemMap,2,FALSE)&VLOOKUP(BK$21,consumptionMap,2,FALSE),rawDataTable,MATCH("import",rawDataTableRows,FALSE),FALSE)/1000 *IF($AB$6=$B$55,$F$22,1) *IF($O$6=$B$57,1/12,1),"-") -> 1.3993958 | BL39: =IFERROR(VLOOKUP(VLOOKUP($S$38,demoMap,2,FALSE)&VLOOKUP($AH39,systemMap,2,FALSE)&VLOOKUP(BL$21,consumptionMap,2,FALSE),rawDataTable,MATCH("import",rawDataTableRows,FALSE),FALSE)/1000 *IF($AB$6=$B$55,$F$22,1) *IF($O$6=$B$57,1/12,1),"-") -> 2.9193468 | BM39: =IFERROR(VLOOKUP(VLOOKUP($S$38,demoMap,2,FALSE)&VLOOKUP($AH39,systemMap,2,FALSE)&VLOOKUP(BM$21,consumptionMap,2,FALSE),rawDataTable,MATCH("import",rawDataTableRows,FALSE),FALSE)/1000 *IF($AB$6=$B$55,$F$22,1) *IF($O$6=$B$57,1/12,1),"-") -> 4.4553885 | BO39: =IFERROR(($AC39-BG39),"-") -> 0.42560421 | BP39: =IFERROR(($AC39-BH39),"-") -> 0.73065315 | BQ39: =IFERROR(($AC39-BI39),"-") -> 1.0196115
F40: 4 | H40: 6000 | J40: =$F$22*H40 -> 6000000 | O40: MWh of clean energy | X40: 4 | Y40: =AI40+$AM40 -> -311.76424 | Z40: =AJ40+$AM40 -> -143.22532 | AA40: =AK40+$AM40 -> 17.668002 | AC40: =IFERROR(VLOOKUP(VLOOKUP($S$38,demoMap,2,FALSE)&VLOOKUP($AH40,systemMap,2,FALSE)&VLOOKUP(BC$21,consumptionMap,2,FALSE),rawDataTable,MATCH("gen",rawDataTableRows,FALSE),FALSE)/1000 *IF($AB$6=$B$55,$F$22,1) *IF($O$6=$B$57,1/12,1),"-") -> 4.4060521 | AE40: =(BP40+BH40)*$J$47 -> 5.5075651 | AH40: 4 | AI40: =AU40+AQ40-AY40 -> 454.34969 | AJ40: =AV40+AR40-AZ40 -> 622.88861 | AK40: =AW40+AS40-BA40 -> 783.78194 | AM40: =IF($J$31="Annual",PMT($I$28,$J$30,$H$40),PMT($I$28/4,$J$30*4,$H$40)*4) *IF($AB$6=$B$55,$F$22,1) *IF($O$6=$B$57,1/12,1) -> -766.11393 | AQ40: =BG40*$I$34 -> 237.34954 | AR40: =BH40*$I$34 -> 217.4692 | AS40: =BI40*$I$34 -> 200.1317 | AU40: =BC$23*$I$33 -> 547.5 | AV40: =BD$23*$I$33 -> 1095 | AW40: =BE$23*$I$33 -> 1642.5 | AY40: =BK40*$J$35 -> 330.49985 | AZ40: =BL40*$J$35 -> 689.58059 | BA40: =BM40*$J$35 -> 1058.8498 | BC40: =BC$21*365/1000 *IF($AB$6=$B$55,$F$22,1) *IF($O$6=$B$57,1/12,1) -> 1.825 | BD40: =BD$21*365/1000 *IF($AB$6=$B$55,$F$22,1) *IF($O$6=$B$57,1/12,1) -> 3.65 | BE40: =BE$21*365/1000 *IF($AB$6=$B$55,$F$22,1) *IF($O$6=$B$57,1/12,1) -> 5.475 | BG40: =IFERROR(VLOOKUP(VLOOKUP($S$38,demoMap,2,FALSE)&VLOOKUP($AH40,systemMap,2,FALSE)&VLOOKUP(BG$21,consumptionMap,2,FALSE),rawDataTable,MATCH("export",rawDataTableRows,FALSE),FALSE)/1000 *IF($AB$6=$B$55,$F$22,1) *IF($O$6=$B$57,1/12,1),"-") -> 3.9558257 | BH40: =IFERROR(VLOOKUP(VLOOKUP($S$38,demoMap,2,FALSE)&VLOOKUP($AH40,systemMap,2,FALSE)&VLOOKUP(BH$21,consumptionMap,2,FALSE),rawDataTable,MATCH("export",rawDataTableRows,FALSE),FALSE)/1000 *IF($AB$6=$B$55,$F$22,1) *IF($O$6=$B$57,1/12,1),"-") -> 3.6244867 | BI40: =IFERROR(VLOOKUP(VLOOKUP($S$38,demoMap,2,FALSE)&VLOOKUP($AH40,systemMap,2,FALSE)&VLOOKUP(BI$21,consumptionMap,2,FALSE),rawDataTable,MATCH("export",rawDataTableRows,FALSE),FALSE)/1000 *IF($AB$6=$B$55,$F$22,1) *IF($O$6=$B$57,1/12,1),"-") -> 3.3355284 | BK40: =IFERROR(VLOOKUP(VLOOKUP($S$38,demoMap,2,FALSE)&VLOOKUP($AH40,systemMap,2,FALSE)&VLOOKUP(BK$21,consumptionMap,2,FALSE),rawDataTable,MATCH("import",rawDataTableRows,FALSE),FALSE)/1000 *IF($AB$6=$B$55,$F$22,1) *IF($O$6=$B$57,1/12,1),"-") -> 1.3747737 | BL40: =IFERROR(VLOOKUP(VLOOKUP($S$38,demoMap,2,FALSE)&VLOOKUP($AH40,systemMap,2,FALSE)&VLOOKUP(BL$21,consumptionMap,2,FALSE),rawDataTable,MATCH("import",rawDataTableRows,FALSE),FALSE)/1000 *IF($AB$6=$B$55,$F$22,1) *IF($O$6=$B$57,1/12,1),"-") -> 2.8684347 | BM40: =IFERROR(VLOOKUP(VLOOKUP($S$38,demoMap,2,FALSE)&VLOOKUP($AH40,systemMap,2,FALSE)&VLOOKUP(BM$21,consumptionMap,2,FALSE),rawDataTable,MATCH("import",rawDataTableRows,FALSE),FALSE)/1000 *IF($AB$6=$B$55,$F$22,1) *IF($O$6=$B$57,1/12,1),"-") -> 4.4044764 | BO40: =IFERROR(($AC40-BG40),"-") -> 0.45022632 | BP40: =IFERROR(($AC40-BH40),"-") -> 0.78156532 | BQ40: =IFERROR(($AC40-BI40),"-") -> 1.0705236
F41: 5 | H41: 6950 | J41: =$F$22*H41 -> 6950000 | X41: 5 | Y41: =AI41+$AM41 -> -364.56412 | Z41: =AJ41+$AM41 -> -191.34556 | AA41: =AK41+$AM41 -> -28.357878 | AC41: =IFERROR(VLOOKUP(VLOOKUP($S$38,demoMap,2,FALSE)&VLOOKUP($AH41,systemMap,2,FALSE)&VLOOKUP(BC$21,consumptionMap,2,FALSE),rawDataTable,MATCH("gen",rawDataTableRows,FALSE),FALSE)/1000 *IF($AB$6=$B$55,$F$22,1) *IF($O$6=$B$57,1/12,1),"-") -> 5.5075651 | AE41: =(BP41+BH41)*$J$47 -> 6.8844563 | AH41: 5 | AI41: =AU41+AQ41-AY41 -> 522.85118 | AJ41: =AV41+AR41-AZ41 -> 696.06974 | AK41: =AW41+AS41-BA41 -> 859.05743 | AM41: =IF($J$31="Annual",PMT($I$28,$J$30,$H$41),PMT($I$28/4,$J$30*4,$H$41)*4) *IF($AB$6=$B$55,$F$22,1) *IF($O$6=$B$57,1/12,1) -> -887.41531 | AQ41: =BG41*$I$34 -> 302.63855 | AR41: =BH41*$I$34 -> 281.20182 | AS41: =BI41*$I$34 -> 263.16776 | AU41: =BC$23*$I$33 -> 547.5 | AV41: =BD$23*$I$33 -> 1095 | AW41: =BE$23*$I$33 -> 1642.5 | AY41: =BK41*$J$35 -> 327.28737 | AZ41: =BL41*$J$35 -> 680.13207 | BA41: =BM41*$J$35 -> 1046.6103 | BC41: =BC$21*365/1000 *IF($AB$6=$B$55,$F$22,1) *IF($O$6=$B$57,1/12,1) -> 1.825 | BD41: =BD$21*365/1000 *IF($AB$6=$B$55,$F$22,1) *IF($O$6=$B$57,1/12,1) -> 3.65 | BE41: =BE$21*365/1000 *IF($AB$6=$B$55,$F$22,1) *IF($O$6=$B$57,1/12,1) -> 5.475 | BG41: =IFERROR(VLOOKUP(VLOOKUP($S$38,demoMap,2,FALSE)&VLOOKUP($AH41,systemMap,2,FALSE)&VLOOKUP(BG$21,consumptionMap,2,FALSE),rawDataTable,MATCH("export",rawDataTableRows,FALSE),FALSE)/1000 *IF($AB$6=$B$55,$F$22,1) *IF($O$6=$B$57,1/12,1),"-") -> 5.0439758 | BH41: =IFERROR(VLOOKUP(VLOOKUP($S$38,demoMap,2,FALSE)&VLOOKUP($AH41,systemMap,2,FALSE)&VLOOKUP(BH$21,consumptionMap,2,FALSE),rawDataTable,MATCH("export",rawDataTableRows,FALSE),FALSE)/1000 *IF($AB$6=$B$55,$F$22,1) *IF($O$6=$B$57,1/12,1),"-") -> 4.6866969 | BI41: =IFERROR(VLOOKUP(VLOOKUP($S$38,demoMap,2,FALSE)&VLOOKUP($AH41,systemMap,2,FALSE)&VLOOKUP(BI$21,consumptionMap,2,FALSE),rawDataTable,MATCH("export",rawDataTableRows,FALSE),FALSE)/1000 *IF($AB$6=$B$55,$F$22,1) *IF($O$6=$B$57,1/12,1),"-") -> 4.3861293 | BK41: =IFERROR(VLOOKUP(VLOOKUP($S$38,demoMap,2,FALSE)&VLOOKUP($AH41,systemMap,2,FALSE)&VLOOKUP(BK$21,consumptionMap,2,FALSE),rawDataTable,MATCH("import",rawDataTableRows,FALSE),FALSE)/1000 *IF($AB$6=$B$55,$F$22,1) *IF($O$6=$B$57,1/12,1),"-") -> 1.3614108 | BL41: =IFERROR(VLOOKUP(VLOOKUP($S$38,demoMap,2,FALSE)&VLOOKUP($AH41,systemMap,2,FALSE)&VLOOKUP(BL$21,consumptionMap,2,FALSE),rawDataTable,MATCH("import",rawDataTableRows,FALSE),FALSE)/1000 *IF($AB$6=$B$55,$F$22,1) *IF($O$6=$B$57,1/12,1),"-") -> 2.8291319 | BM41: =IFERROR(VLOOKUP(VLOOKUP($S$38,demoMap,2,FALSE)&VLOOKUP($AH41,systemMap,2,FALSE)&VLOOKUP(BM$21,consumptionMap,2,FALSE),rawDataTable,MATCH("import",rawDataTableRows,FALSE),FALSE)/1000 *IF($AB$6=$B$55,$F$22,1) *IF($O$6=$B$57,1/12,1),"-") -> 4.3535642 | BO41: =IFERROR(($AC41-BG41),"-") -> 0.46358925 | BP41: =IFERROR(($AC41-BH41),"-") -> 0.82086812 | BQ41: =IFERROR(($AC41-BI41),"-") -> 1.1214358
B45: * required leverage is calculated as the debt required to finance a program of (equally) mixed system sizes. | O45: ^ further descriptions of household types modelled by MEFL are provided below
B46: ** value of energy imported is based on MEFL analysis and matching of the solar generation and typical demand pattern of household types. | O46: Single occupant / Couple w/o children | S46: 1-2 people living in the home, all occupants working 9-5 Monday to Friday
B47: *** assumed Victorian grid emissions factor (scope 2 and 3) | I47: 1 MWh = | J47: 1.25 | K47: tCO2-e | O47: Family type 1 (Couple with children) | S47: Couple with children, both parents working
O48: Family type 2 (1-2 working occupants) | S48: 1-2 people living in the home, all occupants working 9-5 Monday to Friday
O49: Retirees (1-2 occupants) | S49: 1-2 people living in the home, generally at home during
B53: model list options | I53: Conditional formatting | M53: Min | N53: Max
B54: shown per household | I54: per household net annual | M54: -1000 | N54: 1000
B55: shown for all participating households | I55: =AB6&O6 -> shown per householdnet annual benefit | M55: =IF(AB6=B54,1,F22)*IF(O6=B58,1,1/12)*M54 -> -1000 | N55: =IF(AB6=B54,1,F22)*IF(O6=B58,1,1/12)*N54 -> 1000
B57: net monthly benefit
B58: net annual benefit

Sheet energyData
A1: Key | C1: isgen | D1: demand | E1: gen | F1: export | G1: import | H1: current cost | I1: new export income | J1: new import cost | K1: new cost | L1: reduction | M1: monthly max current cost | N1: monthly avg current cost | O1: monthly max new cost | P1: monthly avg new cost | Q1: monthly min reduction | R1: monthly avg reduction | S1: annual export fraction | T1: annual reduction | U1: payback | V1: demographic | W1: systemsize | X1: consumption | Y1: net saving at 0 over 10 | Z1: net saving at 2.5 over 10 | AA1: net saving at 5 over 10 | AB1: net saving at 8 over 10 | AC1: net saving at 15 over 10 | AD1: net saving at 6 over 3
A2: =V2&W2&X2 -> SingleCouple2.0 kW5 kWh | B2: 0 | C2: 365.30417 | D2: 1825 | E2: 2203.026 | F2: 1812.2434 | G2: 1434.2173 | H2: 547.5 | I2: 108.7346 | J2: 347.88276 | K2: 239.14816 | L2: 308.35184 | M2: 45.625 | N2: 45.625 | O2: 27.892083 | P2: 19.929013 | Q2: 17.732917 | R2: 25.695987 | S2: 0.82261551 | T2: 308.35184 | U2: 10.896643 | V2: SingleCouple | W2: 2.0 kW | X2: 5 kWh | Y2: -2.304013 | Z2: -9.304013 | AA2: -16.304013 | AB2: -24.304013 | AC2: -44.304013 | AD2: -84.304013
